BEGIN:VCALENDAR
VERSION:2.0
PRODID:-//FKV 1913 e.V. - ECPv6.15.20//NONSGML v1.0//EN
CALSCALE:GREGORIAN
METHOD:PUBLISH
X-ORIGINAL-URL:https://www.frankfurtkanu.de
X-WR-CALDESC:Veranstaltungen für FKV 1913 e.V.
REFRESH-INTERVAL;VALUE=DURATION:PT1H
X-Robots-Tag:noindex
X-PUBLISHED-TTL:PT1H
BEGIN:VTIMEZONE
TZID:Europe/Berlin
BEGIN:DAYLIGHT
TZOFFSETFROM:+0100
TZOFFSETTO:+0200
TZNAME:CEST
DTSTART:20250330T010000
END:DAYLIGHT
BEGIN:STANDARD
TZOFFSETFROM:+0200
TZOFFSETTO:+0100
TZNAME:CET
DTSTART:20251026T010000
END:STANDARD
BEGIN:DAYLIGHT
TZOFFSETFROM:+0100
TZOFFSETTO:+0200
TZNAME:CEST
DTSTART:20260329T010000
END:DAYLIGHT
BEGIN:STANDARD
TZOFFSETFROM:+0200
TZOFFSETTO:+0100
TZNAME:CET
DTSTART:20261025T010000
END:STANDARD
BEGIN:DAYLIGHT
TZOFFSETFROM:+0100
TZOFFSETTO:+0200
TZNAME:CEST
DTSTART:20270328T010000
END:DAYLIGHT
BEGIN:STANDARD
TZOFFSETFROM:+0200
TZOFFSETTO:+0100
TZNAME:CET
DTSTART:20271031T010000
END:STANDARD
END:VTIMEZONE
BEGIN:VEVENT
DTSTART;VALUE=DATE:20260906
DTEND;VALUE=DATE:20260907
DTSTAMP:20260425T145237
CREATED:20251016T135518Z
LAST-MODIFIED:20260324T101600Z
UID:16170-1788652800-1788739199@www.frankfurtkanu.de
SUMMARY:21. Äppelwoifahrt auf dem Main
DESCRIPTION:An alle Paddelfreunde und -freundinnen! \nUnsere Äppelwoifahrt findet traditionsgemäß am 1. Sonntag im September\, diesmal am 06.09.2026\, statt.\nWir möchten euch hiermit persönlich einladen. Nähere Einzelheiten entnehmt bitte der Ausschreibung (folgt). \nDer Start ist um 11 Uhr am Kanu-Klub Mühlheim (in der Nähe der ehem. Mainfähre)\, die Fahrt endet am FKV-Bootshaus. Unterwegs werden die Teilnehmer:innen aus dem Bunkerboot mit Handkäs\, Brezeln und Stöffche (auch Getränke ohne Umdrehungen) verpflegt. Bitte eigene Becher mitbringen (gut für die Umwelt). Unterwegs passieren wir die Schiffsschleuse Offenbach. Auf der ganzen Fahrt besteht Schwimmwestenpflicht. \nAnmeldung für FKV-Mitglieder bis 27. August 2026 in SportMember\nVorbesprechung für FKV-Mitglieder: Donnerstag\, 03. September 2026\, 20 Uhr\, Bootshaus FKV \nInfo: Martin Goedecke \nStart: Mühlheim am Main GPS 50.129309\, 8.836657
URL:https://www.frankfurtkanu.de/termin/21-aeppelwoifahrt-auf-dem-main/
LOCATION:Kanu Klub Mühlheim\, Fährenstraße 38\, Mühlheim\, 63165\, Deutschland
CATEGORIES:Jugend,Kanu-Touring,SUP,Verband,Verein
END:VEVENT
END:VCALENDAR