BEGIN:VCALENDAR
VERSION:2.0
PRODID:-//FKV 1913 e.V. - ECPv6.15.20//NONSGML v1.0//EN
CALSCALE:GREGORIAN
METHOD:PUBLISH
X-WR-CALNAME:FKV 1913 e.V.
X-ORIGINAL-URL:https://www.frankfurtkanu.de
X-WR-CALDESC:Veranstaltungen für FKV 1913 e.V.
REFRESH-INTERVAL;VALUE=DURATION:PT1H
X-Robots-Tag:noindex
X-PUBLISHED-TTL:PT1H
BEGIN:VTIMEZONE
TZID:Europe/Berlin
BEGIN:DAYLIGHT
TZOFFSETFROM:+0100
TZOFFSETTO:+0200
TZNAME:CEST
DTSTART:20200329T010000
END:DAYLIGHT
BEGIN:STANDARD
TZOFFSETFROM:+0200
TZOFFSETTO:+0100
TZNAME:CET
DTSTART:20201025T010000
END:STANDARD
BEGIN:DAYLIGHT
TZOFFSETFROM:+0100
TZOFFSETTO:+0200
TZNAME:CEST
DTSTART:20210328T010000
END:DAYLIGHT
BEGIN:STANDARD
TZOFFSETFROM:+0200
TZOFFSETTO:+0100
TZNAME:CET
DTSTART:20211031T010000
END:STANDARD
BEGIN:DAYLIGHT
TZOFFSETFROM:+0100
TZOFFSETTO:+0200
TZNAME:CEST
DTSTART:20220327T010000
END:DAYLIGHT
BEGIN:STANDARD
TZOFFSETFROM:+0200
TZOFFSETTO:+0100
TZNAME:CET
DTSTART:20221030T010000
END:STANDARD
BEGIN:DAYLIGHT
TZOFFSETFROM:+0100
TZOFFSETTO:+0200
TZNAME:CEST
DTSTART:20230326T010000
END:DAYLIGHT
BEGIN:STANDARD
TZOFFSETFROM:+0200
TZOFFSETTO:+0100
TZNAME:CET
DTSTART:20231029T010000
END:STANDARD
END:VTIMEZONE
BEGIN:VEVENT
DTSTART;VALUE=DATE:20220916
DTEND;VALUE=DATE:20220919
DTSTAMP:20260422T121658
CREATED:20210908T080503Z
LAST-MODIFIED:20220829T100647Z
UID:12902-1663286400-1663545599@www.frankfurtkanu.de
SUMMARY:Kanujugendwochenende 2022
DESCRIPTION:Vom 16.09.2022 bis 18.09.2022 findet das Kanu-Jugendwochenende des FKV 1913 e.V. auf unserem Außengelände Mainfeldstr. 19 statt.\nWir wollen gemeinsam paddeln\, spielen und kochen. Dafür haben wir uns ein umfangreiches und vielfältiges Programm überlegt.\nÜbernachtet wird in eigenen Zelten. \nOrganisation: Jugendteam des FKV 1913 e.V.\nAnmeldung: jugend@frankfurtkanu.de\nAnmeldeschluss: 07.09.2022\nVorbesprechung: 14.09.2022 nach dem Jugendtraining. \nDie Kosten für Verpflegung etc. betragen 20€.\nAnmeldung unter Angabe von Namen\, Alter und Essenseinschränkungen an jugend@frankfurtkanu.de
URL:https://www.frankfurtkanu.de/termin/kanujugendwochenende-2021-2/
LOCATION:FKV Niederrad\, Mainfeldstraße 17\, Frankfurt\, Hessen\, 60528\, Deutschland
CATEGORIES:Jugend,Verein
END:VEVENT
BEGIN:VEVENT
DTSTART;TZID=Europe/Berlin:20220331T193000
DTEND;TZID=Europe/Berlin:20220331T210000
DTSTAMP:20260422T121658
CREATED:20220112T124216Z
LAST-MODIFIED:20220112T130054Z
UID:12646-1648755000-1648760400@www.frankfurtkanu.de
SUMMARY:FKV-Winterprogramm: Der Wurfsack - unverzichtbar im Kanusport
DESCRIPTION:Das FKV-Winterprogramm für alle Mitglieder! \nWissenswertes rund ums Kanufahren – immer donnerstags im Bootshaus! \nHeute: Wozu dient der Wurfsack und wie nutze ich ihn richtig?\nFür das Wurfsack-Training: bitte eigenen Wurfsack mitbringen (oder beim Verein ausleihen). \nAnmeldung über SportMember \nVeranstaltung gemäß 2G-PLUS-Regel – bitte Nachweise mitbringen! \n 
URL:https://www.frankfurtkanu.de/termin/fkv-winterprogramm-ausruestung-und-bekleidung-2-2-3/
LOCATION:Bootshaus FKV\, Schaumainkai 90\, Frankfurt\, 60596\, Deutschland
CATEGORIES:Drachenboot,Jugend,Kanu-Touring,Outrigger,Sportboot,SUP,Verein,Wildwasser
END:VEVENT
BEGIN:VEVENT
DTSTART;TZID=Europe/Berlin:20220324T193000
DTEND;TZID=Europe/Berlin:20220324T210000
DTSTAMP:20260422T121658
CREATED:20220112T124216Z
LAST-MODIFIED:20220112T125907Z
UID:12647-1648150200-1648155600@www.frankfurtkanu.de
SUMMARY:FKV-Winterprogramm: Wehre und Schleusen
DESCRIPTION:Das FKV-Winterprogramm für alle Mitglieder! \nWissenswertes rund ums Kanufahren – immer donnerstags im Bootshaus! \nHeute: Wehre\, Bootsgassen\, Schleusen und Fähren – wie verhalten sich Kanusportler:innen richtig? \nAnmeldung über SportMember \nVeranstaltung gemäß 2G-PLUS-Regel – bitte Nachweise mitbringen! \n 
URL:https://www.frankfurtkanu.de/termin/fkv-winterprogramm-ausruestung-und-bekleidung-2-2-2/
LOCATION:Bootshaus FKV\, Schaumainkai 90\, Frankfurt\, 60596\, Deutschland
CATEGORIES:Drachenboot,Jugend,Kanu-Touring,Outrigger,Sportboot,SUP,Verein,Wildwasser
END:VEVENT
BEGIN:VEVENT
DTSTART;TZID=Europe/Berlin:20220224T193000
DTEND;TZID=Europe/Berlin:20220224T210000
DTSTAMP:20260422T121658
CREATED:20220112T124216Z
LAST-MODIFIED:20220112T125840Z
UID:12644-1645731000-1645736400@www.frankfurtkanu.de
SUMMARY:FKV-Winterprogramm: Knotenkunde
DESCRIPTION:Das FKV-Winterprogramm für alle Mitglieder! \nWissenswertes rund ums Kanufahren – immer donnerstags im Bootshaus! \nHeute: Welche Knoten sind sinvoll im Kanusport?\nWir üben verschiedene Knoten und Steke\, deshalb bringt einige Schnüre und Seile mit. \nAnmeldung über SportMember \nVeranstaltung gemäß 2G-PLUS-Regel – bitte Nachweise mitbringen! \n 
URL:https://www.frankfurtkanu.de/termin/fkv-winterprogramm-ausruestung-und-bekleidung-2-2/
LOCATION:Bootshaus FKV\, Schaumainkai 90\, Frankfurt\, 60596\, Deutschland
CATEGORIES:Drachenboot,Jugend,Kanu-Touring,Outrigger,Sportboot,SUP,Verein,Wildwasser
END:VEVENT
BEGIN:VEVENT
DTSTART;TZID=Europe/Berlin:20220217T193000
DTEND;TZID=Europe/Berlin:20220217T210000
DTSTAMP:20260422T121658
CREATED:20220112T124216Z
LAST-MODIFIED:20220113T115311Z
UID:12656-1645126200-1645131600@www.frankfurtkanu.de
SUMMARY:FKV-Winterprogramm: Strömungslehre
DESCRIPTION:Das FKV-Winterprogramm für alle Mitglieder! \nWissenswertes rund ums Kanufahren – immer donnerstags im Bootshaus! \nHeute: Wie erkenne ich Strömungen und wie nutze ich sie beim Paddeln?\nAlles zum Thema Strömung\, Kehrwasser\, Seilfähren-Technik und mehr. \nAnmeldung über SportMember \nVeranstaltung gemäß 2G-PLUS-Regel – bitte Nachweise mitbringen! \n 
URL:https://www.frankfurtkanu.de/termin/fkv-winterprogramm-ausruestung-und-bekleidung-2-2-3-2/
LOCATION:Bootshaus FKV\, Schaumainkai 90\, Frankfurt\, 60596\, Deutschland
CATEGORIES:Drachenboot,Jugend,Kanu-Touring,Outrigger,Sportboot,SUP,Verein,Wildwasser
END:VEVENT
BEGIN:VEVENT
DTSTART;TZID=Europe/Berlin:20220210T193000
DTEND;TZID=Europe/Berlin:20220210T210000
DTSTAMP:20260422T121658
CREATED:20220112T124216Z
LAST-MODIFIED:20220112T124504Z
UID:12642-1644521400-1644526800@www.frankfurtkanu.de
SUMMARY:FKV-Winterprogramm: Fahrtenbuch & Co.
DESCRIPTION:Das FKV-Winterprogramm für alle Mitglieder! \nWissenswertes rund ums Kanufahren – immer donnerstags im Bootshaus! \nHeute: Was FKV-Mitglieder über Trainings und Vereinsaktivitäten wissen sollten. \nAnmeldung über SportMember\nVeranstaltung gemäß 2G-PLUS-Regel – bitte Nachweise mitbringen! \n 
URL:https://www.frankfurtkanu.de/termin/fkv-winterprogramm-ausruestung-und-bekleidung-2/
LOCATION:Bootshaus FKV\, Schaumainkai 90\, Frankfurt\, 60596\, Deutschland
CATEGORIES:Drachenboot,Jugend,Kanu-Touring,Outrigger,Sportboot,SUP,Verein,Wildwasser
END:VEVENT
BEGIN:VEVENT
DTSTART;TZID=Europe/Berlin:20220127T193000
DTEND;TZID=Europe/Berlin:20220127T210000
DTSTAMP:20260422T121658
CREATED:20220112T124216Z
LAST-MODIFIED:20220112T125747Z
UID:12640-1643311800-1643317200@www.frankfurtkanu.de
SUMMARY:FKV-Winterprogramm: Ausrüstung und Bekleidung
DESCRIPTION:Das FKV-Winterprogramm für alle Mitglieder! \nWissenswertes rund ums Kanufahren – immer donnerstags im Bootshaus! \nHeute: Ausrüstungs-Check für die kommende Saison. Zweckmäßige Bekleidung und Ausrüstung für das Paddeln im Winter und im Sommer – für Kajak/Canadier und SUP. \nAnmeldung über SportMember\nBringt eure persönlichen Paddelsachen und Ausrüstungsgegenstände mit.\nVeranstaltung gemäß 2G-PLUS-Regel – bitte Nachweise mitbringen! \n 
URL:https://www.frankfurtkanu.de/termin/fkv-winterprogramm-ausruestung-und-bekleidung/
LOCATION:Bootshaus FKV\, Schaumainkai 90\, Frankfurt\, 60596\, Deutschland
CATEGORIES:Drachenboot,Jugend,Kanu-Touring,Outrigger,Sportboot,SUP,Verein,Wildwasser
END:VEVENT
BEGIN:VEVENT
DTSTART;VALUE=DATE:20210917
DTEND;VALUE=DATE:20210920
DTSTAMP:20260422T121658
CREATED:20210908T080503Z
LAST-MODIFIED:20210908T080540Z
UID:12262-1631836800-1632095999@www.frankfurtkanu.de
SUMMARY:Kanujugendwochenende 2021
DESCRIPTION:Vom 17.09.2021 bis 19.09.2021 findet das Kanu-Jugendwochenende des FKV 1913 e.V. auf unserem Außengelände Mainfeldstr. 19 statt.\nWir wollen gemeinsam (auch mit dem FRVS) paddeln\, spielen und kochen. Dafür haben wir uns ein umfangreiches und vielfältiges Programm überlegt.\nÜbernachtet wird in eigenen Zelten. \nOrganisation: Jugendteam des FKV 1913 e.V.\nAnmeldung: jugend@frankfurtkanu.de\nAnmeldeschluss: 15.09.2021\nVorbesprechung: 15.09.2021 nach dem Jugendtraining. \nDie Kosten für Verpflegung etc. betragen 30\,00 €.
URL:https://www.frankfurtkanu.de/termin/kanujugendwochenende-2021/
LOCATION:FKV Niederrad\, Mainfeldstraße 17\, Frankfurt\, Hessen\, 60528\, Deutschland
CATEGORIES:Jugend,Verein
END:VEVENT
BEGIN:VEVENT
DTSTART;VALUE=DATE:20210626
DTEND;VALUE=DATE:20210627
DTSTAMP:20260422T121658
CREATED:20210110T171205Z
LAST-MODIFIED:20210615T165004Z
UID:11617-1624665600-1624751999@www.frankfurtkanu.de
SUMMARY:Kanu-Wanderfahrt auf der Lahn - auch für SUP
DESCRIPTION:Die Lahn im sportlichen Teil erleben – von Roth zur Badenburg bei Gießen. In diesem Abschnitt wechseln sich fließende Abschnitte ab mit solchen mit geringer Strömung\, ein Wehr mit Bootsrutsche ist auch dabei. In Kurven lauern Buschhindernisse\, die es zu umfahren gilt. Für Abwechslung ist also gesorgt\, die Paddler:innen sollten über die Grundlagen der Bootsbeherrschung verfügen\, ansonsten kann es sehr nass werden (das Mitführen von Wechselkleidung ist immer zu empfehlen). \nDie Strecke ist für Kajakfahrer:innen geeignet\, auch Canadier- und SUP-Fahrer:innen können bei ausreichendem Wasserstand die Strecke meistern. Empfohlen werden Klapp- oder nur kleine Finnen bei SUPs. \nStreckenlänge 15 km\, bitte eigene Tagesverpflegung mitnehmen.\nBootstransport auf Bootsanhänger (gegen Gebühr) oder eigener Transport \nVorbesprechung : Donnerstag\, 24. Juni 2021\, im Bootshaus nach dem Training \nAnmeldung: Dietmar  kassierer@frankfurtkanu.de \n 
URL:https://www.frankfurtkanu.de/termin/schulung-fuer-canadierfahrer-innen-2/
LOCATION:Wiesecker KC\, Inselweg 114\, Gießen\, 35396\, Deutschland
CATEGORIES:Jugend,Kanu-Touring,SUP,Verein
END:VEVENT
END:VCALENDAR