BEGIN:VCALENDAR
VERSION:2.0
PRODID:-//FKV 1913 e.V. - ECPv6.15.20//NONSGML v1.0//EN
CALSCALE:GREGORIAN
METHOD:PUBLISH
X-WR-CALNAME:FKV 1913 e.V.
X-ORIGINAL-URL:https://www.frankfurtkanu.de
X-WR-CALDESC:Veranstaltungen für FKV 1913 e.V.
REFRESH-INTERVAL;VALUE=DURATION:PT1H
X-Robots-Tag:noindex
X-PUBLISHED-TTL:PT1H
BEGIN:VTIMEZONE
TZID:Europe/Berlin
BEGIN:DAYLIGHT
TZOFFSETFROM:+0100
TZOFFSETTO:+0200
TZNAME:CEST
DTSTART:20250330T010000
END:DAYLIGHT
BEGIN:STANDARD
TZOFFSETFROM:+0200
TZOFFSETTO:+0100
TZNAME:CET
DTSTART:20251026T010000
END:STANDARD
BEGIN:DAYLIGHT
TZOFFSETFROM:+0100
TZOFFSETTO:+0200
TZNAME:CEST
DTSTART:20260329T010000
END:DAYLIGHT
BEGIN:STANDARD
TZOFFSETFROM:+0200
TZOFFSETTO:+0100
TZNAME:CET
DTSTART:20261025T010000
END:STANDARD
BEGIN:DAYLIGHT
TZOFFSETFROM:+0100
TZOFFSETTO:+0200
TZNAME:CEST
DTSTART:20270328T010000
END:DAYLIGHT
BEGIN:STANDARD
TZOFFSETFROM:+0200
TZOFFSETTO:+0100
TZNAME:CET
DTSTART:20271031T010000
END:STANDARD
END:VTIMEZONE
BEGIN:VEVENT
DTSTART;VALUE=DATE:20261003
DTEND;VALUE=DATE:20261004
DTSTAMP:20260423T015848
CREATED:20251016T140856Z
LAST-MODIFIED:20260324T101504Z
UID:16173-1790985600-1791071999@www.frankfurtkanu.de
SUMMARY:43. Frankfurter Funzelfahrt auf dem Main
DESCRIPTION:Auf geht’s zur 43. Frankfurter Funzelfahrt auf dem Main – baut die besten Funzelmotive und bringt den Main zum Leuchten! \nWir treffen uns am Samstag\, 03. Oktober 2026 um 15 Uhr am Bootsplatz des Frankfurter Kanu-Vereins (FKV)\, Mainfeldstr. 17\, 60528 Frankfurt-Niederrad\nGPS: 50.088576\, 8.632328\, Fluss-km 31\,2 (linkes Ufer)\nDort erwarten euch Kaffee\, Tee und Kuchen\, bevor es losgeht zum Start. \n• Losgepaddelt wird gegen 16 Uhr vom Bootsplatz des FKV flussauf in Richtung Offenbacher Schleuse bis zum Rudererdorf Oberrad\, ca. 7 km einfache Strecke.\n• Auf der linken Mainseite am Rudererdorf Oberrad\, unterhalb der Offenbacher Schleuse\, habt ihr Gelegenheit\, die “Funzeln” an die Boote zu montieren.\n• Mit einsetzender Dunkelheit paddeln wir dann gemeinsam eine Strecke von ca. 7 km\, an der Skyline und am Museumsufer vorbei\, am Frankfurter Nizza entlang wieder zum linksufrigen Bootsplatz. Dort ist für das leibliche Wohl gesorgt.\n• Wem die Gesamt-Strecke von 14 km zu lang ist\, transportiert sein Boot in Eigenregie zur Einsatzstelle am Rudererdorf. Treffzeitpunkt 18 Uhr. \nNachhaltig handeln: bitte eigenes Geschirr\, Besteck und Becher mitbringen. \nBitte beachten:\nDie Teilnahme erfolgt auf eigene Gefahr!\n• Jede:r Teilnehmer:in muss eine Schwimmweste tragen! Anderenfalls ist eine Teilnahme an der Funzelfahrt nicht möglich!\n• Jedes Boot muss über Abschottungen/genügend Auftriebskörper verfügen!\n• Witterungsbedingte Ereignisse können zu einer Änderung des Fahrtablaufs führen. \nFür „Erstfunzler”: auf frankfurterisch steht das Wort „Funzel“ für eine trübe Beleuchtung.\nEs ist alles erlaubt\, was irgendwie leuchtet und beim Paddeln an Bord von Kajak\, Canadier\, SUP\, OC oder Drachenboot transportiert werden kann. \nDie schönsten Funzeln werden nach der Fahrt prämiert. \nMeldeschluss: Samstag\, 26. September 2026\nVorbesprechung FKV-Mitglieder: Donnerstag\, 01.10.2026\, 20 Uhr\, FKV Bootshaus \nAuswärtige Gäste haben nach Absprache die Möglichkeit\, auf dem Bootsplatz des FKV zu übernachten – Stellplätze für Zelte\, Wohnwagen und Wohnmobile sind in begrenzter Anzahl vorhanden. \nWir freuen uns auf euch! \nFür das Funzelteam:\nJan Heering\, FKV
URL:https://www.frankfurtkanu.de/termin/43-frankfurter-funzelfahrt-auf-dem-main/
LOCATION:FKV Niederrad\, Mainfeldstraße 17\, Frankfurt\, Hessen\, 60528\, Deutschland
CATEGORIES:Drachenboot,Jugend,Kanu-Touring,Outrigger,SUP,Verband,Verein
END:VEVENT
END:VCALENDAR