BEGIN:VCALENDAR
VERSION:2.0
PRODID:-//FKV 1913 e.V. - ECPv6.15.20//NONSGML v1.0//EN
CALSCALE:GREGORIAN
METHOD:PUBLISH
X-WR-CALNAME:FKV 1913 e.V.
X-ORIGINAL-URL:https://www.frankfurtkanu.de
X-WR-CALDESC:Veranstaltungen für FKV 1913 e.V.
REFRESH-INTERVAL;VALUE=DURATION:PT1H
X-Robots-Tag:noindex
X-PUBLISHED-TTL:PT1H
BEGIN:VTIMEZONE
TZID:Europe/Berlin
BEGIN:DAYLIGHT
TZOFFSETFROM:+0100
TZOFFSETTO:+0200
TZNAME:CEST
DTSTART:20240331T010000
END:DAYLIGHT
BEGIN:STANDARD
TZOFFSETFROM:+0200
TZOFFSETTO:+0100
TZNAME:CET
DTSTART:20241027T010000
END:STANDARD
BEGIN:DAYLIGHT
TZOFFSETFROM:+0100
TZOFFSETTO:+0200
TZNAME:CEST
DTSTART:20250330T010000
END:DAYLIGHT
BEGIN:STANDARD
TZOFFSETFROM:+0200
TZOFFSETTO:+0100
TZNAME:CET
DTSTART:20251026T010000
END:STANDARD
BEGIN:DAYLIGHT
TZOFFSETFROM:+0100
TZOFFSETTO:+0200
TZNAME:CEST
DTSTART:20260329T010000
END:DAYLIGHT
BEGIN:STANDARD
TZOFFSETFROM:+0200
TZOFFSETTO:+0100
TZNAME:CET
DTSTART:20261025T010000
END:STANDARD
END:VTIMEZONE
BEGIN:VEVENT
DTSTART;VALUE=DATE:20250615
DTEND;VALUE=DATE:20250616
DTSTAMP:20260425T135621
CREATED:20250212T145148Z
LAST-MODIFIED:20250213T132351Z
UID:15644-1749945600-1750031999@www.frankfurtkanu.de
SUMMARY:Praktische Wanderfahrerschulung in Marburg
DESCRIPTION:Wie sieht es aus\, habt ihr mal Lust auf bewegtem Wasser zu paddeln? \nAuf dieser Übungsstrecke bekommt ihr den richtigen Einstieg\, um sicher auf bewegtem Wasser unterwegs zu sein. Kehrwasser fahren\, Traversieren\, ….\nUnter fachkundiger Anleitung bekommt ihr alle Grundlagen beigebracht\, um sich sicher auf Gewässern mit Strömung zu bewegen. Egal ob ihr aus dem Wanderfahrerbereich kommt oder in den Wildwasserbereich einsteigen möchtet. Auch Fortgeschrittene können dieses Angebot nutzen um ihre Technik zu verfeinern. \nEinen Vorgeschmack auf die Strecke könnt ihr hier bekommen: https://www.youtube.com/watch?v=EAMXRq7TgHU \nAnmeldung über SportMember\nAnmeldeschluss und Vorbesprechung: 12.06.2025 nach dem Kajaktraining\nTreffpunkt: FKV Bootshaus \nKontakt: Petra Schellhorn p.schellhorn@arcor.de
URL:https://www.frankfurtkanu.de/termin/praktische-wanderfahrerschulung-in-marburg-4/
LOCATION:Kanuslalomstrecke Marburg\, Uferstraße\, Marburg\, 35037\, Deutschland
CATEGORIES:Jugend,Kanu-Touring,Verband,Verein,Wildwasser
END:VEVENT
END:VCALENDAR